BEGIN:VCALENDAR
VERSION:2.0
PRODID:-//Center for Integrative Movement Science - ECPv6.15.18//NONSGML v1.0//EN
CALSCALE:GREGORIAN
METHOD:PUBLISH
X-ORIGINAL-URL:https://cims.uci.edu
X-WR-CALDESC:Events for Center for Integrative Movement Science
REFRESH-INTERVAL;VALUE=DURATION:PT1H
X-Robots-Tag:noindex
X-PUBLISHED-TTL:PT1H
BEGIN:VTIMEZONE
TZID:America/Los_Angeles
BEGIN:DAYLIGHT
TZOFFSETFROM:-0800
TZOFFSETTO:-0700
TZNAME:PDT
DTSTART:20240310T100000
END:DAYLIGHT
BEGIN:STANDARD
TZOFFSETFROM:-0700
TZOFFSETTO:-0800
TZNAME:PST
DTSTART:20241103T090000
END:STANDARD
BEGIN:DAYLIGHT
TZOFFSETFROM:-0800
TZOFFSETTO:-0700
TZNAME:PDT
DTSTART:20250309T100000
END:DAYLIGHT
BEGIN:STANDARD
TZOFFSETFROM:-0700
TZOFFSETTO:-0800
TZNAME:PST
DTSTART:20251102T090000
END:STANDARD
BEGIN:DAYLIGHT
TZOFFSETFROM:-0800
TZOFFSETTO:-0700
TZNAME:PDT
DTSTART:20260308T100000
END:DAYLIGHT
BEGIN:STANDARD
TZOFFSETFROM:-0700
TZOFFSETTO:-0800
TZNAME:PST
DTSTART:20261101T090000
END:STANDARD
END:VTIMEZONE
BEGIN:VEVENT
DTSTART;TZID=America/Los_Angeles:20250605T090000
DTEND;TZID=America/Los_Angeles:20250605T103000
DTSTAMP:20260420T185557
CREATED:20250610T203802Z
LAST-MODIFIED:20250610T204748Z
UID:1535-1749114000-1749119400@cims.uci.edu
SUMMARY:Research Workshop: Scaling and dimensional analysis
DESCRIPTION:Presented by Dr. Monica Daley as part of the IMSI Summer Institute Research Workshop series.
URL:https://cims.uci.edu/event/research-workshop-scaling-and-dimensional-analysis/
END:VEVENT
BEGIN:VEVENT
DTSTART;TZID=America/Los_Angeles:20250611T090000
DTEND;TZID=America/Los_Angeles:20250611T100000
DTSTAMP:20260420T185557
CREATED:20250212T003537Z
LAST-MODIFIED:20250212T003537Z
UID:1395-1749632400-1749636000@cims.uci.edu
SUMMARY:IMSI Executive Committee Meeting
DESCRIPTION:EC meetings occur monthly on the 2nd Wednesday of the month\, from 9am-10am Pacific\, 12-1pm Eastern.\nWe will record meetings and provide a summary to allow those who can’t attend to review\, and we can follow up on conversations in the EC Folder in the Shared Drive for Meetings.
URL:https://cims.uci.edu/event/imsi-executive-committee-meeting-2/
END:VEVENT
BEGIN:VEVENT
DTSTART;TZID=America/Los_Angeles:20250612T090000
DTEND;TZID=America/Los_Angeles:20250612T103000
DTSTAMP:20260420T185557
CREATED:20250610T204427Z
LAST-MODIFIED:20250610T204850Z
UID:1541-1749718800-1749724200@cims.uci.edu
SUMMARY:Research Workshop: Movement exploration
DESCRIPTION:Presented by Dr. Jill McNitt-Gray & Dr. Kelli Sharp as part of the IMSI Summer Institute Research Workshop series.
URL:https://cims.uci.edu/event/research-workshop-movement-exploration/
END:VEVENT
BEGIN:VEVENT
DTSTART;TZID=America/Los_Angeles:20250618T090000
DTEND;TZID=America/Los_Angeles:20250618T103000
DTSTAMP:20260420T185557
CREATED:20250610T210339Z
LAST-MODIFIED:20250610T210339Z
UID:1549-1750237200-1750242600@cims.uci.edu
SUMMARY:Research Workshop: Ultrasound imaging
DESCRIPTION:Presented by Dr. Luke Jessup as part of the IMSI Summer Institute Research Workshop series.
URL:https://cims.uci.edu/event/research-workshop-ultrasound-imaging/
END:VEVENT
BEGIN:VEVENT
DTSTART;TZID=America/Los_Angeles:20250625T090000
DTEND;TZID=America/Los_Angeles:20250625T100000
DTSTAMP:20260420T185557
CREATED:20250212T003626Z
LAST-MODIFIED:20250212T003626Z
UID:1397-1750842000-1750845600@cims.uci.edu
SUMMARY:IMSI All-Hands Meeting
DESCRIPTION:All-hands meetings are collaborative and we welcome all voices.\nWe meet monthly\, on the fourth Wednesday of each month\, at 9am Pacific / 12pm Eastern.\nWe will record and share summary minutes for those who are not able to join. \nFaculty:  Please feel free to invite all relevant lab members to join All-Hands meetings.
URL:https://cims.uci.edu/event/imsi-all-hands-meeting-7/
END:VEVENT
BEGIN:VEVENT
DTSTART;TZID=America/Los_Angeles:20250625T090000
DTEND;TZID=America/Los_Angeles:20250625T100000
DTSTAMP:20260420T185557
CREATED:20250610T210731Z
LAST-MODIFIED:20250610T210731Z
UID:1565-1750842000-1750845600@cims.uci.edu
SUMMARY:Mentoring Workshop: Assessing Understanding
DESCRIPTION:
URL:https://cims.uci.edu/event/mentoring-workshop-assessing-understanding/
END:VEVENT
BEGIN:VEVENT
DTSTART;TZID=America/Los_Angeles:20250626T090000
DTEND;TZID=America/Los_Angeles:20250626T100000
DTSTAMP:20260420T185557
CREATED:20250212T003654Z
LAST-MODIFIED:20250212T003654Z
UID:1399-1750928400-1750932000@cims.uci.edu
SUMMARY:IMSI Data Management Group Meeting
DESCRIPTION:
URL:https://cims.uci.edu/event/imsi-data-management-group-meeting-4/
END:VEVENT
BEGIN:VEVENT
DTSTART;TZID=America/Los_Angeles:20250626T090000
DTEND;TZID=America/Los_Angeles:20250626T103000
DTSTAMP:20260420T185557
CREATED:20250610T205141Z
LAST-MODIFIED:20250610T205141Z
UID:1551-1750928400-1750933800@cims.uci.edu
SUMMARY:Research Workshop: Introduction to Mechanics of the Musculoskeletal System
DESCRIPTION:Presented by Dr. Katie Knaus as part of the IMSI Summer Institute Research Workshop series.
URL:https://cims.uci.edu/event/research-workshop-introduction-to-mechanics-of-the-musculoskeletal-system/
END:VEVENT
END:VCALENDAR