BEGIN:VCALENDAR
VERSION:2.0
PRODID:-//Center for Integrative Movement Science - ECPv6.15.18//NONSGML v1.0//EN
CALSCALE:GREGORIAN
METHOD:PUBLISH
X-ORIGINAL-URL:https://cims.uci.edu
X-WR-CALDESC:Events for Center for Integrative Movement Science
REFRESH-INTERVAL;VALUE=DURATION:PT1H
X-Robots-Tag:noindex
X-PUBLISHED-TTL:PT1H
BEGIN:VTIMEZONE
TZID:America/Los_Angeles
BEGIN:DAYLIGHT
TZOFFSETFROM:-0800
TZOFFSETTO:-0700
TZNAME:PDT
DTSTART:20250309T100000
END:DAYLIGHT
BEGIN:STANDARD
TZOFFSETFROM:-0700
TZOFFSETTO:-0800
TZNAME:PST
DTSTART:20251102T090000
END:STANDARD
BEGIN:DAYLIGHT
TZOFFSETFROM:-0800
TZOFFSETTO:-0700
TZNAME:PDT
DTSTART:20260308T100000
END:DAYLIGHT
BEGIN:STANDARD
TZOFFSETFROM:-0700
TZOFFSETTO:-0800
TZNAME:PST
DTSTART:20261101T090000
END:STANDARD
BEGIN:DAYLIGHT
TZOFFSETFROM:-0800
TZOFFSETTO:-0700
TZNAME:PDT
DTSTART:20270314T100000
END:DAYLIGHT
BEGIN:STANDARD
TZOFFSETFROM:-0700
TZOFFSETTO:-0800
TZNAME:PST
DTSTART:20271107T090000
END:STANDARD
END:VTIMEZONE
BEGIN:VEVENT
DTSTART;VALUE=DATE:20260103
DTEND;VALUE=DATE:20260108
DTSTAMP:20260421T073112
CREATED:20251209T232201Z
LAST-MODIFIED:20251209T232235Z
UID:1711-1767398400-1767830399@cims.uci.edu
SUMMARY:SICB 2026
DESCRIPTION:Learn more about IMSI affiliated presentations at SICB here
URL:https://cims.uci.edu/event/sicb-2026/
END:VEVENT
BEGIN:VEVENT
DTSTART;TZID=America/Los_Angeles:20260112T153000
DTEND;TZID=America/Los_Angeles:20260112T170000
DTSTAMP:20260421T073112
CREATED:20251202T192951Z
LAST-MODIFIED:20251208T201642Z
UID:1695-1768231800-1768237200@cims.uci.edu
SUMMARY:Research Seminar (Yuting Lin)
DESCRIPTION:Title: How do birds stand up? Large Birds Leverage Passive Mechanisms to Mitigate Muscle Work Limits. \nSpeaker: Yuting Lin \n  \n 
URL:https://cims.uci.edu/event/research-seminar-yuting-lin/
ATTACH;FMTTYPE=image/png:https://cims.uci.edu/wp-content/uploads/sites/47/2025/12/Yuting-Lin-LinkedIn-IMSI-Research-Seminar-2.png
END:VEVENT
BEGIN:VEVENT
DTSTART;TZID=America/Los_Angeles:20260114T090000
DTEND;TZID=America/Los_Angeles:20260114T100000
DTSTAMP:20260421T073112
CREATED:20260128T000443Z
LAST-MODIFIED:20260128T001548Z
UID:1885-1768381200-1768384800@cims.uci.edu
SUMMARY:Monthly Executive Committee Meeting
DESCRIPTION:Repeats every month on the second Wednesday
URL:https://cims.uci.edu/event/ecmeeting-jan2026/
END:VEVENT
BEGIN:VEVENT
DTSTART;TZID=America/Los_Angeles:20260128T090000
DTEND;TZID=America/Los_Angeles:20260128T100000
DTSTAMP:20260421T073112
CREATED:20260128T001028Z
LAST-MODIFIED:20260217T212941Z
UID:1897-1769590800-1769594400@cims.uci.edu
SUMMARY:Monthly All Hands Meeting
DESCRIPTION:All-hands meetings are collaborative in nature. We welcome all voices in our discussion.\n\n\n\nPlease join if you are able. We will record and share summary minutes for those who are not able to join. We meet monthly\, on the fourth Wednesday of each month\, at 9am PST / 12 pm EST
URL:https://cims.uci.edu/event/allhands-jan2026/
END:VEVENT
END:VCALENDAR