BEGIN:VCALENDAR
VERSION:2.0
PRODID:-//Center for Integrative Movement Science - ECPv6.15.18//NONSGML v1.0//EN
CALSCALE:GREGORIAN
METHOD:PUBLISH
X-ORIGINAL-URL:https://cims.uci.edu
X-WR-CALDESC:Events for Center for Integrative Movement Science
REFRESH-INTERVAL;VALUE=DURATION:PT1H
X-Robots-Tag:noindex
X-PUBLISHED-TTL:PT1H
BEGIN:VTIMEZONE
TZID:America/Los_Angeles
BEGIN:DAYLIGHT
TZOFFSETFROM:-0800
TZOFFSETTO:-0700
TZNAME:PDT
DTSTART:20250309T100000
END:DAYLIGHT
BEGIN:STANDARD
TZOFFSETFROM:-0700
TZOFFSETTO:-0800
TZNAME:PST
DTSTART:20251102T090000
END:STANDARD
BEGIN:DAYLIGHT
TZOFFSETFROM:-0800
TZOFFSETTO:-0700
TZNAME:PDT
DTSTART:20260308T100000
END:DAYLIGHT
BEGIN:STANDARD
TZOFFSETFROM:-0700
TZOFFSETTO:-0800
TZNAME:PST
DTSTART:20261101T090000
END:STANDARD
BEGIN:DAYLIGHT
TZOFFSETFROM:-0800
TZOFFSETTO:-0700
TZNAME:PDT
DTSTART:20270314T100000
END:DAYLIGHT
BEGIN:STANDARD
TZOFFSETFROM:-0700
TZOFFSETTO:-0800
TZNAME:PST
DTSTART:20271107T090000
END:STANDARD
END:VTIMEZONE
BEGIN:VEVENT
DTSTART;TZID=America/Los_Angeles:20260311T090000
DTEND;TZID=America/Los_Angeles:20260311T100000
DTSTAMP:20260420T165008
CREATED:20260128T000739Z
LAST-MODIFIED:20260128T001646Z
UID:1893-1773219600-1773223200@cims.uci.edu
SUMMARY:Monthly Executive Committee Meeting
DESCRIPTION:Repeats every month on the second Wednesday
URL:https://cims.uci.edu/event/ecmeeting-mar2026/
END:VEVENT
BEGIN:VEVENT
DTSTART;TZID=America/Los_Angeles:20260311T130000
DTEND;TZID=America/Los_Angeles:20260311T140000
DTSTAMP:20260420T165008
CREATED:20260223T222355Z
LAST-MODIFIED:20260223T222516Z
UID:1976-1773234000-1773237600@cims.uci.edu
SUMMARY:Research Seminar (Coen Elemans)
DESCRIPTION:IMSI Research Seminars are open to the public. For Zoom access\, please email cims@uci.edu.  \n\n\n\n\n\n\n\nTitle: Embodied Motor Control of the Animal Voice \n\n\n\nSpeaker: Professor Coen P. H. Elemans (University of Southern Denmark) \n\n\n\nDate: March 11th\, 2026\, at 1-2pm PT \n\n\n\nAbstract: Our voice is important for human communication\, identity\, and artistic expression\, and laid the basis for our unique cultural evolution. Making sounds with our voices is also the main way all mammals\, amphibians\, and birds communicate. This process involves complex and carefully coordinated body movements\, which are crucial for success in competition for resources and finding mates. However\, we still have only a basic understanding of the mechanisms that control both animal and human voices. \n\n\n\nOver the past ten years\, Prof. Elemans’ lab has identified physical mechanisms how sounds are produced across different vocal vertebrates. In addition to discovering remarkable adaptations in rodents and aquatic frogs\, they have shown that the myoelastic-aerodynamic theory for human sound production explains how many vertebrates\, including birds\, primates\, bats\, but also toothed and baleen whales\, generate sound. This groundwork was crucial for defining and quantifying the parameters that modulate these vocal signals\, and for building embodied models of vocal motor control in key animal model systems for vocal communication.
URL:https://cims.uci.edu/event/research-seminar-coen-elemans/
ATTACH;FMTTYPE=image/png:https://cims.uci.edu/wp-content/uploads/sites/47/2026/02/LinkedIn-Post-Coen-Elemans.png
END:VEVENT
BEGIN:VEVENT
DTSTART;TZID=America/Los_Angeles:20260325T090000
DTEND;TZID=America/Los_Angeles:20260325T100000
DTSTAMP:20260420T165009
CREATED:20260128T002237Z
LAST-MODIFIED:20260217T213027Z
UID:1910-1774429200-1774432800@cims.uci.edu
SUMMARY:Monthly All Hands Meeting
DESCRIPTION:All-hands meetings are collaborative in nature. We welcome all voices in our discussion.\n\n\n\nPlease join if you are able. We will record and share summary minutes for those who are not able to join. We meet monthly\, on the fourth Wednesday of each month\, at 9am PST / 12 pm EST
URL:https://cims.uci.edu/event/allhands-mar2026/
END:VEVENT
END:VCALENDAR